BEGIN:VCALENDAR
VERSION:2.0
PRODID:-//Brooklyn Autism Center - ECPv6.6.4.2//NONSGML v1.0//EN
CALSCALE:GREGORIAN
METHOD:PUBLISH
X-WR-CALNAME:Brooklyn Autism Center
X-ORIGINAL-URL:https://brooklynautismcenter.org
X-WR-CALDESC:Events for Brooklyn Autism Center
REFRESH-INTERVAL;VALUE=DURATION:PT1H
X-Robots-Tag:noindex
X-PUBLISHED-TTL:PT1H
BEGIN:VTIMEZONE
TZID:America/New_York
BEGIN:DAYLIGHT
TZOFFSETFROM:-0500
TZOFFSETTO:-0400
TZNAME:EDT
DTSTART:20190310T070000
END:DAYLIGHT
BEGIN:STANDARD
TZOFFSETFROM:-0400
TZOFFSETTO:-0500
TZNAME:EST
DTSTART:20191103T060000
END:STANDARD
END:VTIMEZONE
BEGIN:VEVENT
DTSTART;TZID=America/New_York:20190224T150000
DTEND;TZID=America/New_York:20190224T200000
DTSTAMP:20260422T063620
CREATED:20190921T154510Z
LAST-MODIFIED:20191205T124010Z
UID:10000021-1551020400-1551038400@brooklynautismcenter.org
SUMMARY:Science Exhibition 2020
DESCRIPTION:Vestibulum nec ipsum sed erat ullamcorper feugiat. Suspendisse potenti. Cum sociis natoque penatibus et magnis dis parturient montes\, nascetur ridiculus mus. Suspendisse pellentesque\, nunc et cursus blandit\, dolor leo posuere urna\, in elementum leo sem sed leo. Sed lacinia ipsum ligula\, at hendrerit risus pretium nec. Praesent vitae velit id augue ornare mollis nec vel quam. Nulla non ligula tristique\, consequat nibh non\, pellentesque nibh. Integer efficitur risus ac urna mattis maximus. Fusce egestas nisi sit amet ante dapibus maximus. \nDonec ultricies tellus orci\, quis tristique nisi lobortis sed. Donec id ex a mauris fringilla ullamcorper. Nulla magna massa\, elementum sed nibh sed\, laoreet aliquam felis. Sed ante augue\, luctus et tortor vel\, dignissim blandit nibh. Aliquam ut pretium sapien. Donec interdum est in arcu varius\, in tincidunt felis semper. Pellentesque habitant morbi tristique senectus et netus et malesuada fames ac turpis egestas. Cras at nulla eget ante fermentum eleifend. Nunc sed ultricies urna. Etiam sed augue ac tortor condimentum vestibulum vitae eu felis.
URL:https://brooklynautismcenter.org/event/science-exhibition-2020/
LOCATION:Party Haus\, 330 S Broadway Unit 602\, Los Angelos\, CA\, 90013\, united States
CATEGORIES:Music,Painting
ATTACH;FMTTYPE=image/jpeg:https://brooklynautismcenter.org/wp-content/uploads/2019/09/event-2.jpg
ORGANIZER;CN="Famous Amos":MAILTO:cookies@aol.com
GEO:34.0499387;-118.2482539
X-APPLE-STRUCTURED-LOCATION;VALUE=URI;X-ADDRESS=Party Haus 330 S Broadway Unit 602 Los Angelos CA 90013 united States;X-APPLE-RADIUS=500;X-TITLE=330 S Broadway Unit 602:geo:-118.2482539,34.0499387
END:VEVENT
END:VCALENDAR